BEGIN:VCALENDAR
VERSION:2.0
PRODID:-//eventon.com NONSGML v1.0//EN
CALSCALE:GREGORIAN
METHOD:PUBLISH
BEGIN:VEVENT
UID:69e5511bd65c4
DTSTAMP:20260419T220307Z
DTSTART:20221209T183000Z
DTEND:20221209T225000Z
LOCATION:
SUMMARY:Posaunenchor 19.30 Uhr
DESCRIPTION:Posaunenchor 19.30 Uhr Leitung Diethelm Schilling\nhttps://lkg-
 floh-seligenthal.de/events/posaunenchor-19-30-uhr-8/var/ri-6.l-L1
URL:https://lkg-floh-seligenthal.de/events/posaunenchor-19-30-uhr-8/var/ri-6.l-L1
END:VEVENT
END:VCALENDAR